BEGIN:VCALENDAR
VERSION:2.0
PRODID:-//eventon.com NONSGML v1.0//EN
CALSCALE:GREGORIAN
METHOD:PUBLISH
BEGIN:VEVENT
UID:69e756f25ec85
DTSTAMP:20260421T105234Z
DTSTART:20181108T130000Z
DTEND:20181108T150000Z
LOCATION:
SUMMARY:"Google Search Tips and MLGC new Website" by Cheryl Bittner and Michael Kearney
DESCRIPTION:The program Google recently celebrated its 20th birthday and it
 ’s safe to say that it has changed the way everyone finds things out. Whi
 le allowing you to search literally trillions of documents\,  as with any o
 ther search method\,  Google presents its own set of challenges to genealog
 ical researchers. In the[..]\nhttps://www.mainlinegenealogy.org/events/goog
 le-search-tips-and-mlgc-new-website-by-cheryl-bittner-and-michael-kearney/
URL:https://www.mainlinegenealogy.org/events/google-search-tips-and-mlgc-new-website-by-cheryl-bittner-and-michael-kearney/
END:VEVENT
END:VCALENDAR