BEGIN:VCALENDAR
VERSION:2.0
PRODID:-//eventon.com NONSGML v1.0//EN
CALSCALE:GREGORIAN
METHOD:PUBLISH
BEGIN:VEVENT
UID:69e6869060395
DTSTAMP:20260420T200328Z
DTSTART:20240613T130000Z
DTEND:20240613T150000Z
LOCATION:
SUMMARY:House Histories: Rural & Urban-Case Studies by Paul Campbell-Trimbur
DESCRIPTION:PLEASE CLICK HERE TO REGISTER. The handout and Zoom link will o
 nly be sent to registered attendees. Paul Campbell-Trimbur\,  the owner and
  researcher of Stone Barn Research www.stonebarnresearch.com will talk us
  through how he researches house histories. He will start with urban set h
 ouses in Philadelphia and Pittsburgh (where he presently lives) and[..]\nht
 tps://www.mainlinegenealogy.org/events/house-histories-rural-urban-case-stu
 dies-by-paul-campbell-trimbur/
URL:https://www.mainlinegenealogy.org/events/house-histories-rural-urban-case-studies-by-paul-campbell-trimbur/
END:VEVENT
END:VCALENDAR