BEGIN:VCALENDAR
VERSION:2.0
PRODID:-//eventon.com NONSGML v1.0//EN
CALSCALE:GREGORIAN
METHOD:PUBLISH
BEGIN:VEVENT
UID:69e60702d6153
DTSTAMP:20260420T105914Z
DTSTART:20240314T130000Z
DTEND:20240314T150000Z
LOCATION:
SUMMARY:Finding Female Ancestors by Laura Cubbage-Draper
DESCRIPTION:Researching the women in our family can be problematic. Our fem
 ale ancestors left very few records making it challenging to determine a ma
 iden name or family of origin. This program will cover strategies and recor
 d groups that can advance your research and help to uncover female ancestor
 s as well as[..]\nhttps://www.mainlinegenealogy.org/events/finding-female-a
 ncestors-by-laura-cubbage-draper/
URL:https://www.mainlinegenealogy.org/events/finding-female-ancestors-by-laura-cubbage-draper/
END:VEVENT
END:VCALENDAR