BEGIN:VCALENDAR
VERSION:2.0
PRODID:-//eventon.com NONSGML v1.0//EN
CALSCALE:GREGORIAN
METHOD:PUBLISH
BEGIN:VEVENT
UID:69ea041893038
DTSTAMP:20260423T113552Z
DTSTART:20230608T130000Z
DTEND:20230608T150000Z
LOCATION:
SUMMARY:Top Ten DNA Do's and Dont's! by Michelle Leonard - in Person and via Zoom
DESCRIPTION:In this fun and informative presentation\,  Michelle will outli
 ne her most important DNA tips with a list of her top ten things you should
  do if you want to make progress with DNA testing for family history as wel
 l as her top ten things you should avoid. These tips will[..]\nhttps://www.
 mainlinegenealogy.org/events/top-ten-dna-dos-and-donts-by-michelle-leonard-
 in-person-and-via-zoom/
URL:https://www.mainlinegenealogy.org/events/top-ten-dna-dos-and-donts-by-michelle-leonard-in-person-and-via-zoom/
END:VEVENT
END:VCALENDAR