BEGIN:VCALENDAR
VERSION:2.0
PRODID:-//eventon.com NONSGML v1.0//EN
CALSCALE:GREGORIAN
METHOD:PUBLISH
BEGIN:VEVENT
UID:69e7cfb5c0928
DTSTAMP:20260421T192749Z
DTSTART:20220210T130000Z
DTEND:20220210T150000Z
LOCATION:
SUMMARY:African American Genealogy Basics illustrated by Dean Henry (via Zoom)
DESCRIPTION:Alex Haley’s (alexhaley.com) Roots book and TV miniseries in 
 1976/1977 ushered in an era of family history research that illustrated tha
 t it was possible for African Americans to trace their heritage back prior 
 to 1870. During this year’s Black History Month\,  Dean Henry will recap 
 not only the “typical” African[..]\nhttps://www.mainlinegenealogy.org/e
 vents/african-american-genealogy-basics-illustrated-by-dean-henry-via-zoom-
 copy/
URL:https://www.mainlinegenealogy.org/events/african-american-genealogy-basics-illustrated-by-dean-henry-via-zoom-copy/
END:VEVENT
END:VCALENDAR