BEGIN:VCALENDAR
VERSION:2.0
PRODID:-//eventon.com NONSGML v1.0//EN
CALSCALE:GREGORIAN
METHOD:PUBLISH
BEGIN:VEVENT
UID:69ea4c7e3a286
DTSTAMP:20260423T164446Z
DTSTART:20220113T130000Z
DTEND:20220113T150000Z
LOCATION:
SUMMARY:Why Should Anyone Believe Your Research? by Sydney Cruice Dixon (via Zoom)
DESCRIPTION:Whether you are a casual family history hobbyist or on the prof
 essional genealogy track\,  everyone needs to know how to provide solid gen
 ealogical proof. How you support your family research findings is the diffe
 rence between genealogy and mythology. We will demystify the Genealogy Proo
 f Standard and discuss its five components.[..]\nhttps://www.mainlinegeneal
 ogy.org/events/building-a-genealogical-proof-argument-by-sydney-cruice-dixo
 n-via-zoom/
URL:https://www.mainlinegenealogy.org/events/building-a-genealogical-proof-argument-by-sydney-cruice-dixon-via-zoom/
END:VEVENT
END:VCALENDAR