BEGIN:VCALENDAR
VERSION:2.0
PRODID:-//eventon.com NONSGML v1.0//EN
CALSCALE:GREGORIAN
METHOD:PUBLISH
BEGIN:VEVENT
UID:69eb7af8a4ce1
DTSTAMP:20260424T141520Z
DTSTART:20211111T130000Z
DTEND:20211111T150000Z
LOCATION:
SUMMARY:Scottish Research Resources before 1800 by Chris Paton (Via Zoom)
DESCRIPTION:In this talk Chris Paton\,  author of Tracing Your Scottish Anc
 estry Through Church and State Records\,  takes us to pre-19th century Scot
 land\,  when things begin to get a little more complicated with our ancestr
 al research. From Kirk to state\,  a variety of records are available\,  bu
 t it's one thing to[..]\nhttps://www.mainlinegenealogy.org/events/discover-
 scottish-family-history-by-chris-paton-via-zoom/
URL:https://www.mainlinegenealogy.org/events/discover-scottish-family-history-by-chris-paton-via-zoom/
END:VEVENT
END:VCALENDAR