BEGIN:VCALENDAR
VERSION:2.0
PRODID:-//eventon.com NONSGML v1.0//EN
CALSCALE:GREGORIAN
METHOD:PUBLISH
BEGIN:VEVENT
UID:69e5ef28680bc
DTSTAMP:20260420T091728Z
DTSTART:20200611T130000Z
DTEND:20200611T150000Z
LOCATION:
SUMMARY:Join us ONLINE via Zoom: Cyndi's List in Practice by Cyndi Ingle
DESCRIPTION:Due to COVID-19 Social Distancing\,  we will be holding this me
 eting online via Zoom\,  not at the Easttown Library as originally planned.
  Sometimes overwhelming to beginners and sometimes underused by veterans\, 
  Cyndi's List is a research tool that is robust with resources helpful in e
 veryone's research. Using specific examples for[..]\nhttps://www.mainlinege
 nealogy.org/events/join-us-online-via-zoom-cyndis-list-in-practice-by-cyndi
 -ingle/
URL:https://www.mainlinegenealogy.org/events/join-us-online-via-zoom-cyndis-list-in-practice-by-cyndi-ingle/
END:VEVENT
END:VCALENDAR