BEGIN:VCALENDAR
VERSION:2.0
PRODID:-//eventon.com NONSGML v1.0//EN
CALSCALE:GREGORIAN
METHOD:PUBLISH
BEGIN:VEVENT
UID:69eaa927b675a
DTSTAMP:20260423T232007Z
DTSTART:20191010T130000Z
DTEND:20191010T150000Z
LOCATION:
SUMMARY:Family Tree Maker -  Basics for beginners and tips for the experienced users
DESCRIPTION:We first met "Cousin Russ" Worthington at our Family Tree Maker
  presentation in June. We were so impressed with his knowledge of both gene
 alogical research and the Family Tree Maker(FTM) software\,  we asked him t
 o join us in October. The  program will give you a solid foundation in the
  use[..]\nhttps://www.mainlinegenealogy.org/events/family-tree-maker-basics
 -for-beginners-and-tips-for-the-experienced-users/
URL:https://www.mainlinegenealogy.org/events/family-tree-maker-basics-for-beginners-and-tips-for-the-experienced-users/
END:VEVENT
END:VCALENDAR